Workbook

Sheet A1 Aust production
A1: Australian Production
A3: This appendix assesses the level of support for the application.
C13: your data
C14: calculated data
A16: Name of the company | B16: Volume | C16: Value | D16: Percent of total domestic production | E16: Contact number (including area code) | F16: Name of contact person | G16: Full address of the company
A19: Companies supporting the application
A21: Company A | D21: =IFERROR(B21/B$41,) -> 0
A22: Company B (etc) | D22: =IFERROR(B22/B$41,) -> 0
A23: Sub total | B23: =SUM(B21:B22) -> 0 | C23: =SUM(C21:C22) -> 0 | D23: =IFERROR(B23/B$41,) -> 0
A25: Companies opposing the application
A27: Company C | D27: =IFERROR(B27/B$41,) -> 0
A28: Company D (etc) | D28: =IFERROR(B28/B$41,) -> 0
A29: Sub total | B29: =SUM(B27:B28) -> 0 | C29: =SUM(C27:C28) -> 0 | D29: =IFERROR(B29/B$41,) -> 0
A31: Companies commenting on the application (neutral)
A33: Sub total | B33: =B23+B29 -> 0 | C33: =C23+C29 -> 0 | D33: =IFERROR(B33/B$41,) -> 0
A35: Companies not commenting on the application (neutral)
A37: Company E | D37: =IFERROR(B37/B$41,) -> 0
A38: Company F (etc) | D38: =IFERROR(B38/B$41,) -> 0
A39: Sub total (estimated) | B39: =SUM(B37:B38) -> 0 | C39: =SUM(C37:C38) -> 0 | D39: =IFERROR(B39/B$41,) -> 0
A41: Total Australian production (estimated) | B41: =B33+B39 -> 0 | C41: =C33+C39 -> 0 | D41: =IFERROR(B41/B$41,) -> 0
A43: Of the companies that have commented, the portion of production represented by companies supporting the application is | B43: =IF(B33=0,,B23/B33) -> 0 | C43: =IF(C33=0,,C23/C33) -> 0
A45: The portion of total production supporting the application is | B45: =IF(B41=0,,B23/B41) -> 0 | C45: =IF(C41=0,,C23/C41) -> 0

Sheet A2 Aust market
A1: Australian Market
D12: your data | G12: calculated data
C15: P1 | E15: P2 | G15: P3 | I15: Pn
C16: volume | D16: value | E16: volume | F16: value | G16: volume | H16: value | I16: volume | J16: value
A17: Your company's Australian sales of
A18: Own production
A19: Purchases from other Australian mfrs
A20: Imports
A21: Total | C21: =SUM(C18:C20) -> 0 | D21: =SUM(D18:D20) -> 0 | E21: =SUM(E18:E20) -> 0 | F21: =SUM(F18:F20) -> 0 | G21: =SUM(G18:G20) -> 0 | H21: =SUM(H18:H20) -> 0 | I21: =SUM(I18:I20) -> 0 | J21: =SUM(J18:J20) -> 0
A23: Other domestic producers
A24: Production
A25: Purchases
A26: Imports
A27: Total | C27: =SUM(C24:C26) -> 0 | D27: =SUM(D24:D26) -> 0 | E27: =SUM(E24:E26) -> 0 | F27: =SUM(F24:F26) -> 0 | G27: =SUM(G24:G26) -> 0 | H27: =SUM(H24:H26) -> 0 | I27: =SUM(I24:I26) -> 0 | J27: =SUM(J24:J26) -> 0
A29: Sales by Australian producers | C29: =C21+C27 -> 0 | D29: =D21+D27 -> 0 | E29: =E21+E27 -> 0 | F29: =F21+F27 -> 0 | G29: =G21+G27 -> 0 | H29: =H21+H27 -> 0 | I29: =I21+I27 -> 0 | J29: =J21+J27 -> 0
A31: Dumped imports
A32: Country A*
A33: Country B*
A34: etc
A35: Total | C35: =SUM(C32:C34) -> 0 | D35: =SUM(D32:D34) -> 0 | E35: =SUM(E32:E34) -> 0 | F35: =SUM(F32:F34) -> 0 | G35: =SUM(G32:G34) -> 0 | H35: =SUM(H32:H34) -> 0 | I35: =SUM(I32:I34) -> 0 | J35: =SUM(J32:J34) -> 0
A37: Other imports
A38: Country C*
A39: Country D*
A40: etc
A41: Total | C41: =SUM(C38:C40) -> 0 | D41: =SUM(D38:D40) -> 0 | E41: =SUM(E38:E40) -> 0 | F41: =SUM(F38:F40) -> 0 | G41: =SUM(G38:G40) -> 0 | H41: =SUM(H38:H40) -> 0 | I41: =SUM(I38:I40) -> 0 | J41: =SUM(J38:J40) -> 0
A43: Total sales of imports | C43: =C35+C41 -> 0 | D43: =D35+D41 -> 0 | E43: =E35+E41 -> 0 | F43: =F35+F41 -> 0 | G43: =G35+G41 -> 0 | H43: =H35+H41 -> 0 | I43: =I35+I41 -> 0 | J43: =J35+J41 -> 0
A45: AUSTRALIAN MARKET | C45: =C29+C43 -> 0 | D45: =D29+D43 -> 0 | E45: =E29+E43 -> 0 | F45: =F29+F43 -> 0 | G45: =G29+G43 -> 0 | H45: =H29+H43 -> 0 | I45: =I29+I43 -> 0 | J45: =J29+J43 -> 0
A47: Notes:
A48: * specify country
A50: Australian Market Shares (%)
A52: Model/Grade/Type of goods:
C54: P1 | E54: P2 | G54: P3 | I54: Pn
C55: volume | D55: value | E55: volume | F55: value | G55: volume | H55: value | I55: volume | J55: value
A56: Your company's sales of
A57: Own production | C57: =IF('A2 Aust market'!C$45=0,,'A2 Aust market'!C18/'A2 Aust market'!C$45) -> 0 | D57: =IF('A2 Aust market'!D$45=0,,'A2 Aust market'!D18/'A2 Aust market'!D$45) -> 0 | E57: =IF('A2 Aust market'!E$45=0,,'A2 Aust market'!E18/'A2 Aust market'!E$45) -> 0 | F57: =IF('A2 Aust market'!F$45=0,,'A2 Aust market'!F18/'A2 Aust market'!F$45) -> 0 | G57: =IF('A2 Aust market'!G$45=0,,'A2 Aust market'!G18/'A2 Aust market'!G$45) -> 0 | H57: =IF('A2 Aust market'!H$45=0,,'A2 Aust market'!H18/'A2 Aust market'!H$45) -> 0 | I57: =IF('A2 Aust market'!I$45=0,,'A2 Aust market'!I18/'A2 Aust market'!I$45) -> 0 | J57: =IF('A2 Aust market'!J$45=0,,'A2 Aust market'!J18/'A2 Aust market'!J$45) -> 0
A58: Purchases from other Australian mfrs | C58: =IF('A2 Aust market'!C$45=0,,'A2 Aust market'!C19/'A2 Aust market'!C$45) -> 0 | D58: =IF('A2 Aust market'!D$45=0,,'A2 Aust market'!D19/'A2 Aust market'!D$45) -> 0 | E58: =IF('A2 Aust market'!E$45=0,,'A2 Aust market'!E19/'A2 Aust market'!E$45) -> 0 | F58: =IF('A2 Aust market'!F$45=0,,'A2 Aust market'!F19/'A2 Aust market'!F$45) -> 0 | G58: =IF('A2 Aust market'!G$45=0,,'A2 Aust market'!G19/'A2 Aust market'!G$45) -> 0 | H58: =IF('A2 Aust market'!H$45=0,,'A2 Aust market'!H19/'A2 Aust market'!H$45) -> 0 | I58: =IF('A2 Aust market'!I$45=0,,'A2 Aust market'!I19/'A2 Aust market'!I$45) -> 0 | J58: =IF('A2 Aust market'!J$45=0,,'A2 Aust market'!J19/'A2 Aust market'!J$45) -> 0
A59: Imports | C59: =IF('A2 Aust market'!C$45=0,,'A2 Aust market'!C20/'A2 Aust market'!C$45) -> 0 | D59: =IF('A2 Aust market'!D$45=0,,'A2 Aust market'!D20/'A2 Aust market'!D$45) -> 0 | E59: =IF('A2 Aust market'!E$45=0,,'A2 Aust market'!E20/'A2 Aust market'!E$45) -> 0 | F59: =IF('A2 Aust market'!F$45=0,,'A2 Aust market'!F20/'A2 Aust market'!F$45) -> 0 | G59: =IF('A2 Aust market'!G$45=0,,'A2 Aust market'!G20/'A2 Aust market'!G$45) -> 0 | H59: =IF('A2 Aust market'!H$45=0,,'A2 Aust market'!H20/'A2 Aust market'!H$45) -> 0 | I59: =IF('A2 Aust market'!I$45=0,,'A2 Aust market'!I20/'A2 Aust market'!I$45) -> 0 | J59: =IF('A2 Aust market'!J$45=0,,'A2 Aust market'!J20/'A2 Aust market'!J$45) -> 0
A60: Total | C60: =IF('A2 Aust market'!C$45=0,,'A2 Aust market'!C21/'A2 Aust market'!C$45) -> 0 | D60: =IF('A2 Aust market'!D$45=0,,'A2 Aust market'!D21/'A2 Aust market'!D$45) -> 0 | E60: =IF('A2 Aust market'!E$45=0,,'A2 Aust market'!E21/'A2 Aust market'!E$45) -> 0 | F60: =IF('A2 Aust market'!F$45=0,,'A2 Aust market'!F21/'A2 Aust market'!F$45) -> 0 | G60: =IF('A2 Aust market'!G$45=0,,'A2 Aust market'!G21/'A2 Aust market'!G$45) -> 0 | H60: =IF('A2 Aust market'!H$45=0,,'A2 Aust market'!H21/'A2 Aust market'!H$45) -> 0 | I60: =IF('A2 Aust market'!I$45=0,,'A2 Aust market'!I21/'A2 Aust market'!I$45) -> 0 | J60: =IF('A2 Aust market'!J$45=0,,'A2 Aust market'!J21/'A2 Aust market'!J$45) -> 0
A62: Other Australian companies
A63: Production | C63: =IF('A2 Aust market'!C$45=0,,'A2 Aust market'!C24/'A2 Aust market'!C$45) -> 0 | D63: =IF('A2 Aust market'!D$45=0,,'A2 Aust market'!D24/'A2 Aust market'!D$45) -> 0 | E63: =IF('A2 Aust market'!E$45=0,,'A2 Aust market'!E24/'A2 Aust market'!E$45) -> 0 | F63: =IF('A2 Aust market'!F$45=0,,'A2 Aust market'!F24/'A2 Aust market'!F$45) -> 0 | G63: =IF('A2 Aust market'!G$45=0,,'A2 Aust market'!G24/'A2 Aust market'!G$45) -> 0 | H63: =IF('A2 Aust market'!H$45=0,,'A2 Aust market'!H24/'A2 Aust market'!H$45) -> 0 | I63: =IF('A2 Aust market'!I$45=0,,'A2 Aust market'!I24/'A2 Aust market'!I$45) -> 0 | J63: =IF('A2 Aust market'!J$45=0,,'A2 Aust market'!J24/'A2 Aust market'!J$45) -> 0
...

Sheet A3 Turnover
A1: Sales Turnover
C12: your data | F12: calculated data
B15: P1 | D15: P2 | F15: P3 | H15: Pn
B16: volume | C16: value | D16: volume | E16: value | F16: volume | G16: value | H16: volume | I16: value
A17: Your company's sales of
A18: All products (all turnover) | B18: =SUM(B19:B20) -> 0 | C18: =SUM(C19:C20) -> 0 | D18: =SUM(D19:D20) -> 0 | E18: =SUM(E19:E20) -> 0 | F18: =SUM(F19:F20) -> 0 | G18: =SUM(G19:G20) -> 0 | H18: =SUM(H19:H20) -> 0 | I18: =SUM(I19:I20) -> 0
A19: Australian market
A20: Export market
A22: Like goods | B22: =B23+B24 -> 0 | C22: =C23+C24 -> 0 | D22: =D23+D24 -> 0 | E22: =E23+E24 -> 0 | F22: =F23+F24 -> 0 | G22: =G23+G24 -> 0 | H22: =H23+H24 -> 0 | I22: =I23+I24 -> 0
A23: Australian market | B23: =SUM(B27,B31,B35) -> 0 | C23: =SUM(C27,C31,C35) -> 0 | D23: =SUM(D27,D31,D35) -> 0 | E23: =SUM(E27,E31,E35) -> 0 | F23: =SUM(F27,F31,F35) -> 0 | G23: =SUM(G27,G31,G35) -> 0 | H23: =SUM(H27,H31,H35) -> 0 | I23: =SUM(I27,I31,I35) -> 0
A24: Export market | B24: =SUM(B28,B32,B36) -> 0 | C24: =SUM(C28,C32,C36) -> 0 | D24: =SUM(D28,D32,D36) -> 0 | E24: =SUM(E28,E32,E36) -> 0 | F24: =SUM(F28,F32,F36) -> 0 | G24: =SUM(G28,G32,G36) -> 0 | H24: =SUM(H28,H32,H36) -> 0 | I24: =SUM(I28,I32,I36) -> 0
A26: Model Control Code | B26: =SUM(B27:B28) -> 0 | C26: =SUM(C27:C28) -> 0 | D26: =SUM(D27:D28) -> 0 | E26: =SUM(E27:E28) -> 0 | F26: =SUM(F27:F28) -> 0 | G26: =SUM(G27:G28) -> 0 | H26: =SUM(H27:H28) -> 0 | I26: =SUM(I27:I28) -> 0
A27: Australian market
A28: Export market
A30: Model Control Code | B30: =SUM(B31:B32) -> 0 | C30: =SUM(C31:C32) -> 0 | D30: =SUM(D31:D32) -> 0 | E30: =SUM(E31:E32) -> 0 | F30: =SUM(F31:F32) -> 0 | G30: =SUM(G31:G32) -> 0 | H30: =SUM(H31:H32) -> 0 | I30: =SUM(I31:I32) -> 0
A31: Australian market
A32: Export market
A34: Model Control Code | B34: =SUM(B35:B36) -> 0 | C34: =SUM(C35:C36) -> 0 | D34: =SUM(D35:D36) -> 0 | E34: =SUM(E35:E36) -> 0 | F34: =SUM(F35:F36) -> 0 | G34: =SUM(G35:G36) -> 0 | H34: =SUM(H35:H36) -> 0 | I34: =SUM(I35:I36) -> 0
A35: Australian market
A36: Export market
A38: etc

Sheet A4 Aust sales
A1: Domestic sales
A3: This spreadsheet lists all sales of like goods during the last twelve months.
A5: Customer name (1) | B5: Level of trade (2) | C5: Model control code (3) | D5: Product code (4) | E5: Invoice number (5) | F5: Invoice date (6) | G5: Order number (7) | H5: Date of sale (8) | I5: Delivery terms (9) | J5: Payment terms (10) | K5: Quantity (11) | L5: Gross invoice value (12) | M5: Discounts (13) | N5: Rebates (14) | O5: Other charges (15) | P5: Net invoice value (16) | Q5: Other discounts (17) | R5: Packing (18) | S5: Transport & handling (19) | T5: Other Costs (20)
A7: Notes:
A8: (1) | B8: Names of your customers. If the name is not easily produced from your automated systems, show a customer code number and in a separate table list each code and name.
A9: (2) | B9: State the level of trade of your customer.
A10: (3) | B10: Model control code based on section A-3.10 of the application down to the categories identified as mandatory for sales data.
A11: (4) | B11: Code used in your records for the model identified. Provide an explanation of the product codes in your application.
A12: (5) | B12: Invoice number
A13: (6) | B13: Invoice date
A14: (7) | B14: Show order confirmation, contract or purchase order number if you believe a date other than invoice date should be used as the date of sale (the date that best establishes the material terms of sale).
A15: (8) | B15: The date of sale as established by the order confirmation, contract, or purchase order.
A16: (9) | B16: Delivery terms eg. ex-factory, free on truck, delivered into store.
A17: (10) | B17: Agreed payment terms; eg. 60 days.
A18: (11) | B18: Quantity in units shown on the invoice.
A19: (12) | B19: Gross invoice value shown on invoice, excluding taxes.
... A27: (20) | B27: Any other costs included in the selling price (such as warranty, commission or technical support).

Sheet A5 Other production
A1: Sales of Other Production
D9: your data | G9: calculated data
C11: P1 | E11: P2 | G11: P3 | I11: Pn
B12: unit | C12: volume | D12: value | E12: volume | F12: value | G12: volume | H12: value | I12: volume | J12: value
A13: Model control code
A15: Sales of
B16: Own production
B17: third parties
B18: related parties
B19: exports
B20: Total | C20: =SUM(C17:C19) -> 0 | D20: =SUM(D17:D19) -> 0 | E20: =SUM(E17:E19) -> 0 | F20: =SUM(F17:F19) -> 0 | G20: =SUM(G17:G19) -> 0 | H20: =SUM(H17:H19) -> 0 | I20: =SUM(I17:I19) -> 0 | J20: =SUM(J17:J19) -> 0
B22: Imported production
B23: third parties
B24: related parties
B25: exports
B26: Total | C26: =SUM(C23:C25) -> 0 | D26: =SUM(D23:D25) -> 0 | E26: =SUM(E23:E25) -> 0 | F26: =SUM(F23:F25) -> 0 | G26: =SUM(G23:G25) -> 0 | H26: =SUM(H23:H25) -> 0 | I26: =SUM(I23:I25) -> 0 | J26: =SUM(J23:J25) -> 0
B28: Purchases from other Australian manufacturers
B29: third parties
B30: related parties
B31: exports
B32: Total | C32: =SUM(C29:C31) -> 0 | D32: =SUM(D29:D31) -> 0 | E32: =SUM(E29:E31) -> 0 | F32: =SUM(F29:F31) -> 0 | G32: =SUM(G29:G31) -> 0 | H32: =SUM(H29:H31) -> 0 | I32: =SUM(I29:I31) -> 0 | J32: =SUM(J29:J31) -> 0
B34: Other
B35: third parties
B36: related parties
B37: exports
B38: Total | C38: =SUM(C35:C37) -> 0 | D38: =SUM(D35:D37) -> 0 | E38: =SUM(E35:E37) -> 0 | F38: =SUM(F35:F37) -> 0 | G38: =SUM(G35:G37) -> 0 | H38: =SUM(H35:H37) -> 0 | I38: =SUM(I35:I37) -> 0 | J38: =SUM(J35:J37) -> 0
A40: Total Sales
B41: third parties | C41: =C17+C23+C29+C35 -> 0 | D41: =D17+D23+D29+D35 -> 0 | E41: =E17+E23+E29+E35 -> 0 | F41: =F17+F23+F29+F35 -> 0 | G41: =G17+G23+G29+G35 -> 0 | H41: =H17+H23+H29+H35 -> 0 | I41: =I17+I23+I29+I35 -> 0 | J41: =J17+J23+J29+J35 -> 0
B42: related parties | C42: =C18+C24+C30+C36 -> 0 | D42: =D18+D24+D30+D36 -> 0 | E42: =E18+E24+E30+E36 -> 0 | F42: =F18+F24+F30+F36 -> 0 | G42: =G18+G24+G30+G36 -> 0 | H42: =H18+H24+H30+H36 -> 0 | I42: =I18+I24+I30+I36 -> 0 | J42: =J18+J24+J30+J36 -> 0
B43: exports | C43: =C19+C25+C31+C37 -> 0 | D43: =D19+D25+D31+D37 -> 0 | E43: =E19+E25+E31+E37 -> 0 | F43: =F19+F25+F31+F37 -> 0 | G43: =G19+G25+G31+G37 -> 0 | H43: =H19+H25+H31+H37 -> 0 | I43: =I19+I25+I31+I37 -> 0 | J43: =J19+J25+J31+J37 -> 0
B44: Total | C44: =C20+C26+C32+C38 -> 0 | D44: =D20+D26+D32+D38 -> 0 | E44: =E20+E26+E32+E38 -> 0 | F44: =F20+F26+F32+F38 -> 0 | G44: =G20+G26+G32+G38 -> 0 | H44: =H20+H26+H32+H38 -> 0 | I44: =I20+I26+I32+I38 -> 0 | J44: =J20+J26+J32+J38 -> 0
A46: Note: Sales totals should correlate to data provided at other appendices.

Sheet A6.1 CTMS domestic
A1: Cost to Make and Sell (& Profit) - Domestic Sales
B3: Model control code | E3: most recent period is Pn
D4: P1 | E4: P2 | F4: P3 | G4: Pn
E6: your data | G6: calculated data
B7: Cost to Make
A8: A | B8: production quantity | C8: unit
A10: B | B10: variable manufacturing costs | C10: $ | D10: =SUM(D11:D15) -> 0 | E10: =SUM(E11:E15) -> 0 | F10: =SUM(F11:F15) -> 0 | G10: =SUM(G11:G15) -> 0
B11: raw materials - local | C11: $
B12: raw materials - imported | C12: $
B13: direct labour | C13: $
B14: variable overhead | C14: $
B15: other (1) | C15: $
A17: C | B17: fixed manufacturing costs | C17: $ | D17: =SUM(D18:D21) -> 0 | E17: =SUM(E18:E21) -> 0 | F17: =SUM(F18:F21) -> 0 | G17: =SUM(G18:G21) -> 0
B18: overhead | C18: $
B19: depreciation | C19: $
B20: finance charges | C20: $
B21: other (1) | C21: $
A23: D | B23: Inventory change (+/-) | C23: $ | D23: =D26+D29 -> 0 | E23: =E26+E29 -> 0 | F23: =F26+F29 -> 0 | G23: =G26+G29 -> 0
B24: opening WIP (+) | C24: $ | E24: =D25 -> 0 | F24: =E25 -> 0 | G24: =F25 -> 0
B25: closing WIP (-) | C25: $
B26: Change WIP | C26: $ | D26: =D24-D25 -> 0 | E26: =E24-E25 -> 0 | F26: =F24-F25 -> 0 | G26: =G24-G25 -> 0
B27: opening value of materials (+) | C27: $ | E27: =D28 -> 0 | F27: =E28 -> 0 | G27: =F28 -> 0
B28: closing value of materials (-) | C28: $
B29: change in value of materials | C29: $ | D29: =D27-D28 -> 0 | E29: =E27-E28 -> 0 | F29: =F27-F28 -> 0 | G29: =G27-G28 -> 0
A31: E | B31: cost of goods manufactured (B+C+D) | C31: $ | D31: =D10+D17+D23 -> 0 | E31: =E10+E17+E23 -> 0 | F31: =F10+F17+F23 -> 0 | G31: =G10+G17+G23 -> 0
A33: F | B33: unit cost to make (E/A) | C33: $ | D33: =IF(D8=0,,D31/D8) -> 0 | E33: =IF(E8=0,,E31/E8) -> 0 | F33: =IF(F8=0,,F31/F8) -> 0 | G33: =IF(G8=0,,G31/G8) -> 0
B35: Cost to Make and Sell
A36: G | B36: sales quantity (Australia) | C36: unit
A38: H | B38: selling, distribution & administration | C38: $ | D38: =SUM(D39:D43) -> 0 | E38: =SUM(E39:E43) -> 0 | F38: =SUM(F39:F43) -> 0 | G38: =SUM(G39:G43) -> 0
B39: selling | C39: $
B40: distribution | C40: $
B41: administration | C41: $
B42: finance | C42: $
B43: other (1) | C43: $
A45: I | B45: unit cost to sell (H/G) | C45: $ | D45: =IF(D36=0,,D38/D36) -> 0 | E45: =IF(E36=0,,E38/E36) -> 0 | F45: =IF(F36=0,,F38/F36) -> 0 | G45: =IF(G36=0,,G38/G36) -> 0
A47: J | B47: unit cost to make and sell (F+I) | C47: $ | D47: =D33+D45 -> 0 | E47: =E33+E45 -> 0 | F47: =F33+F45 -> 0 | G47: =G33+G45 -> 0
B49: Profit and Profitability
A50: K | B50: net sales revenue | C50: $ | D50: =D51-D52 -> 0 | E50: =E51-E52 -> 0 | F50: =F51-F52 -> 0 | G50: =G51-G52 -> 0
B51: sales revenue | C51: $
B52: discounts, rebates, etc | C52: $
...

Sheet A6.2 CTMS export
A1: Cost to Make and Sell (& Profit) - Export Sales
B3: Model control code | E3: most recent period is Pn
D4: P1 | E4: P2 | F4: P3 | G4: Pn
E6: your data | G6: calculated data
B7: Cost to Make
A8: A | B8: production quantity | C8: unit
A10: B | B10: variable manufacturing costs | C10: $ | D10: =SUM(D11:D15) -> 0 | E10: =SUM(E11:E15) -> 0 | F10: =SUM(F11:F15) -> 0 | G10: =SUM(G11:G15) -> 0
B11: raw materials - local | C11: $
B12: raw materials - imported | C12: $
B13: direct labour | C13: $
B14: variable overhead | C14: $
B15: other (1) | C15: $
A17: C | B17: fixed manufacturing costs | C17: $ | D17: =SUM(D18:D21) -> 0 | E17: =SUM(E18:E21) -> 0 | F17: =SUM(F18:F21) -> 0 | G17: =SUM(G18:G21) -> 0
B18: overhead | C18: $
B19: depreciation | C19: $
B20: finance charges | C20: $
B21: other (1) | C21: $
A23: D | B23: Inventory change (+/-) | C23: $ | D23: =D26+D29 -> 0 | E23: =E26+E29 -> 0 | F23: =F26+F29 -> 0 | G23: =G26+G29 -> 0
B24: opening WIP (+) | C24: $ | E24: =D25 -> 0 | F24: =E25 -> 0 | G24: =F25 -> 0
B25: closing WIP (-) | C25: $
B26: change WIP | C26: $ | D26: =D24-D25 -> 0 | E26: =E24-E25 -> 0 | F26: =F24-F25 -> 0 | G26: =G24-G25 -> 0
B27: opening value of materials (+) | C27: $ | E27: =D28 -> 0 | F27: =E28 -> 0 | G27: =F28 -> 0
B28: closing value of materials (-) | C28: $
B29: change in value of materials | C29: $ | D29: =D27-D28 -> 0 | E29: =E27-E28 -> 0 | F29: =F27-F28 -> 0 | G29: =G27-G28 -> 0
A31: E | B31: cost of goods manufactured (B+C+D) | C31: $ | D31: =D10+D17+D23 -> 0 | E31: =E10+E17+E23 -> 0 | F31: =F10+F17+F23 -> 0 | G31: =G10+G17+G23 -> 0
A33: F | B33: unit cost to make (E/A) | C33: $ | D33: =IF(D8=0,,D31/D8) -> 0 | E33: =IF(E8=0,,E31/E8) -> 0 | F33: =IF(F8=0,,F31/F8) -> 0 | G33: =IF(G8=0,,G31/G8) -> 0
B35: Cost to Make and Sell
A36: G | B36: sales quantity | C36: unit
A38: H | B38: selling, distribution & administration | C38: $ | D38: =SUM(D39:D43) -> 0 | E38: =SUM(E39:E43) -> 0 | F38: =SUM(F39:F43) -> 0 | G38: =SUM(G39:G43) -> 0
B39: selling | C39: $
B40: distribution | C40: $
B41: administration | C41: $
B42: finance | C42: $
B43: other (1) | C43: $
A45: I | B45: unit cost to sell (H/G) | C45: $ | D45: =IF(D36=0,,D38/D36) -> 0 | E45: =IF(E36=0,,E38/E36) -> 0 | F45: =IF(F36=0,,F38/F36) -> 0 | G45: =IF(G36=0,,G38/G36) -> 0
A47: J | B47: unit cost to make and sell (F+I) | C47: $ | D47: =D33+D45 -> 0 | E47: =E33+E45 -> 0 | F47: =F33+F45 -> 0 | G47: =G33+G45 -> 0
B49: Profit and Profitability
A50: K | B50: net sales revenue | C50: $ | D50: =D51-D52 -> 0 | E50: =E51-E52 -> 0 | F50: =F51-F52 -> 0 | G50: =G51-G52 -> 0
B51: sales revenue | C51: $
B52: discounts, rebates, etc | C52: $
...

Sheet A7 Other factors
A1: Other Injury Factors
D2: last period is Pn
C3: P1 | D3: P2 | E3: P3 | F3: Pn
D5: your data | F5: calculated data
A7: Assets | B7: $ | C7: =SUM(C8:C9) -> 0 | D7: =SUM(D8:D9) -> 0 | E7: =SUM(E8:E9) -> 0 | F7: =SUM(F8:F9) -> 0
A8: production of like goods | B8: $
A9: other production | B9: $
A11: Capital investment | B11: $ | C11: =SUM(C12:C13) -> 0 | D11: =SUM(D12:D13) -> 0 | E11: =SUM(E12:E13) -> 0 | F11: =SUM(F12:F13) -> 0
A12: production of like goods | B12: $
A13: other production | B13: $
A15: R & D Expense | B15: $ | C15: =SUM(C16:C17) -> 0 | D15: =SUM(D16:D17) -> 0 | E15: =SUM(E16:E17) -> 0 | F15: =SUM(F16:F17) -> 0
A16: like goods | B16: $
A17: other production | B17: $
A19: Revenue | B19: $ | C19: =SUM(C20:C21) -> 0 | D19: =SUM(D20:D21) -> 0 | E19: =SUM(E20:E21) -> 0 | F19: =SUM(F20:F21) -> 0
A20: like goods | B20: $
A21: other production | B21: $
A23: Return on investment | B23: %
A24: like goods | B24: %
A25: other production | B25: %
A27: Capacity (1) | B27: unit | C27: =SUM(C28:C29) -> 0 | D27: =SUM(D28:D29) -> 0 | E27: =SUM(E28:E29) -> 0 | F27: =SUM(F28:F29) -> 0
A28: like goods | B28: unit
A29: other production | B29: unit
A31: Capacity utilisation
A32: actual production of like goods | B32: unit
A33: actual production (other) | B33: unit
A34: like goods | B34: % | C34: =IF(C28=0,,C31/C28) -> 0 | D34: =IF(D28=0,,D31/D28) -> 0 | E34: =IF(E28=0,,E31/E28) -> 0 | F34: =IF(F28=0,,F31/F28) -> 0
A35: other | B35: % | C35: =IF(C29=0,,C33/C29) -> 0 | D35: =IF(D29=0,,D33/D29) -> 0 | E35: =IF(E29=0,,E33/E29) -> 0 | F35: =IF(F29=0,,F33/F29) -> 0
A37: Employment | C37: =SUM(C38:C39) -> 0 | D37: =SUM(D38:D39) -> 0 | E37: =SUM(E38:E39) -> 0 | F37: =SUM(F38:F39) -> 0
A38: like goods | B38: persons
A39: other production | B39: persons
C40: =SUM(C41:C42) -> 0 | D40: =SUM(D41:D42) -> 0 | E40: =SUM(E41:E42) -> 0 | F40: =SUM(F41:F42) -> 0
A41: like goods | B41: hours worked
A42: other production | B42: hours worked
A44: Productivity(2)
A45: like goods
A46: other production
A48: Stocks
A49: opening stock | B49: unit
A50: plus production | B50: unit
A51: less domestic sales | B51: unit
...

Sheet A8 Representation

Sheet B1 Deductive export price
A1: Deductive Export Prices
C9: your data
C10: calculated data
A12: Model control code | C12: MCC 1 | D12: MCC 2 | E12: etc.
A14: Specify unit (kilograms, tonnes, litres etc)
A16: Period (where applicable)
A18: Price at first point of resale to an unrelated buyer in Australia (per unit) | B18: $A
A20: less amounts for
A21: net profit (if any) - specify rate | B21: X %
A22: delivery to buyer
A23: warehousing
A24: selling, general and administration (incl. financial expenses) - if measured as percentage of selling price, specify rate | B24: Y %
A25: freight from wharf to store
A26: customs duty - specify rate | B26: Z %
A27: goods and services tax (GST)
A28: import clearance and handling (incl. Customs agency fees and disbursements)
A29: overseas freight
A30: overseas insurance
A31: other (specify)
A32: Deductive export price (FOB) | C32: =C18-SUM(C21:C31) -> 0 | D32: =D18-SUM(D21:D31) -> 0 | E32: =E18-SUM(E21:E31) -> 0

Sheet B2 Constructed normal value
A1: Constructed Normal Value
A3: The cost to make the export goods plus the selling and administration costs (as if they were sold in the exporter's domestic market) plus an amount for profit (if applicable)
A14: Model control code | C14: MCC 1 | G14: etc
D15: most recent period is Pn
A16: Specify unit (kilograms, tonnes, | C16: P1 | D16: P2 | E16: P3 | F16: Pn
A17: litres etc)
D18: your data | F18: calculated data
A19: Cost to Make
C20: per unit
A21: variable manufacturing costs | C21: =SUM(C22:C27) -> 0 | D21: =SUM(D22:D27) -> 0 | E21: =SUM(E22:E27) -> 0 | F21: =SUM(F22:F27) -> 0
A22: raw material - (1) | B22: $
A23: raw material - (2) | B23: $
A24: raw material - etc | B24: $
A25: direct labour | B25: $
A26: variable overhead | B26: $
A27: other (1) | B27: $
A29: fixed manufacturing costs | C29: =SUM(C30:C33) -> 0 | D29: =SUM(D30:D33) -> 0 | E29: =SUM(E30:E33) -> 0 | F29: =SUM(F30:F33) -> 0
A30: overhead | B30: $
A31: depreciation | B31: $
A32: finance charges | B32: $
A33: other (1) | B33: $
A35: unit cost to make | B35: $ | C35: =C21+C29 -> 0 | D35: =D21+D29 -> 0 | E35: =E21+E29 -> 0 | F35: =F21+F29 -> 0
A37: Cost to Make and Sell
A38: selling, distribution & administration | B38: $ | C38: =SUM(C39:C43) -> 0 | D38: =SUM(D39:D43) -> 0 | E38: =SUM(E39:E43) -> 0 | F38: =SUM(F39:F43) -> 0
A39: selling | B39: $
A40: distribution | B40: $
A41: administration | B41: $
A42: finance | B42: $
A43: other (1) | B43: $
A45: unit cost to make and sell | B45: $ | C45: =C38+C35 -> 0 | D45: =D38+D35 -> 0 | E45: =E38+E35 -> 0 | F45: =F38+F35 -> 0
A47: Profit (if any)
A48: profit | B48: $ | C48: =C45*C49 -> 0 | D48: =D45*D49 -> 0 | E48: =E45*E49 -> 0 | F48: =F45*F49 -> 0
A49: profit rate (% on total cost to make and sell) | B49: %
A51: Constructed normal value | B51: $ | C51: =C45+C48 -> 0 | D51: =D45+D48 -> 0 | E51: =E45+E48 -> 0 | F51: =F45+F48 -> 0
A53: (1) if 'other' costs exceed 10% of sub-heading value, provide a breakdown of cost elements.
